BEGIN:VCALENDAR
VERSION:2.0
PRODID:-//Le chemin du Coeur - ECPv4.9.4//NONSGML v1.0//EN
CALSCALE:GREGORIAN
METHOD:PUBLISH
X-WR-CALNAME:Le chemin du Coeur
X-ORIGINAL-URL:https://www.lecheminducoeur.org
X-WR-CALDESC:Évènements pour Le chemin du Coeur
BEGIN:VTIMEZONE
TZID:"UTC"
BEGIN:STANDARD
TZOFFSETFROM:+0000
TZOFFSETTO:+0000
TZNAME:UTC
DTSTART:20160101T000000
END:STANDARD
END:VTIMEZONE
BEGIN:VEVENT
DTSTART;VALUE=DATE:20161025
DTEND;VALUE=DATE:20161026
DTSTAMP:20260420T045249
CREATED:20160919T103335Z
LAST-MODIFIED:20161004T214032Z
UID:5429-1477353600-1477439999@www.lecheminducoeur.org
SUMMARY:Mardi 25 octobre 2016  à partir de 17h00 : FOUGERES SUR BIEVRE (41120)
DESCRIPTION:Ecole de l’Infini    21\, rue Henri GOYER  à Fougères sur Bièvre \nExposition du Cœur à 17h00 – Conférence à 18h00 \nContact : Isabelle Rousseau  06.49.37.70.83   ou 02 36 23 42 26  ecoledelinfini@gmail.com  \n
URL:https://www.lecheminducoeur.org/parcours/mardi-25-octobre-2016-a-partir-de-17h00-vernou-sur-brenne-37210/
LOCATION:FOUGERES SUR BIEVRE\, FOUGERES SUR BIEVRE\, 41120\, France
CATEGORIES:Centre,Europe,France,Parcours général
END:VEVENT
END:VCALENDAR