BEGIN:VCALENDAR
VERSION:2.0
PRODID:-//Le chemin du Coeur - ECPv4.9.4//NONSGML v1.0//EN
CALSCALE:GREGORIAN
METHOD:PUBLISH
X-WR-CALNAME:Le chemin du Coeur
X-ORIGINAL-URL:https://www.lecheminducoeur.org
X-WR-CALDESC:Évènements pour Le chemin du Coeur
BEGIN:VTIMEZONE
TZID:"UTC"
BEGIN:STANDARD
TZOFFSETFROM:+0000
TZOFFSETTO:+0000
TZNAME:UTC
DTSTART:20160101T000000
END:STANDARD
END:VTIMEZONE
BEGIN:VEVENT
DTSTART;VALUE=DATE:20161026
DTEND;VALUE=DATE:20161027
DTSTAMP:20260420T062536
CREATED:20160926T152004Z
LAST-MODIFIED:20160926T152004Z
UID:5532-1477440000-1477526399@www.lecheminducoeur.org
SUMMARY:Mercredi 26 octobre 2016 : PERIGUEUX (24000)
DESCRIPTION:Espace Unité  – 66\, rue Gambetta à Périgueux – \nExposition du Cœur à 14h30 – Conférence à 15h00 – \nContact : Nadine Sarrion  06 60 72 03 65   namastenadine@ymail.com \n
URL:https://www.lecheminducoeur.org/parcours/mercredi-26-octobre-2016-perigueux-24000/
LOCATION:PERIGUEUX\, 66\, rue Gambetta\, PERIGUEUX\, 24000\, France
CATEGORIES:Aquitaine-Limousin-Poitou Charentes,Europe,France,Parcours général
END:VEVENT
END:VCALENDAR